BEGIN:VCALENDAR
VERSION:2.0
PRODID:-//85.13.165.73//NONSGML kigkonsult.se iCalcreator 2.20//
CALSCALE:GREGORIAN
METHOD:PUBLISH
X-WR-TIMEZONE:Europe/Berlin
BEGIN:VEVENT
UID:event577@KGA Zingertal e.V.
DTSTAMP:20260421T105002Z
CATEGORIES:KGA
DESCRIPTION:Gartenbegehung\nKategorie: KGA\nICS-Link: https://kga-zingertal
 .de/index.php?option=com_jem&view=event&id=577:gartenbegehung\n
DTSTART;TZID=Europe/Berlin:20250628T100000
DTEND;TZID=Europe/Berlin:20250628T130000
LOCATION:Parzellen
SUMMARY:Gartenbegehung
URL:https://kga-zingertal.de/index.php?option=com_jem&view=event&id=577:gar
 tenbegehung
END:VEVENT
END:VCALENDAR
