BEGIN:VCALENDAR
VERSION:2.0
PRODID:-//85.13.165.73//NONSGML kigkonsult.se iCalcreator 2.20//
CALSCALE:GREGORIAN
METHOD:PUBLISH
X-WR-TIMEZONE:Europe/Berlin
BEGIN:VEVENT
UID:event570@KGA Zingertal e.V.
DTSTAMP:20260421T104341Z
CATEGORIES:KGA
DESCRIPTION:Saisonabschlussfest\nKategorie: KGA\nICS-Link: https://kga-zing
 ertal.de/index.php?option=com_jem&view=event&id=570:saisonabschlussfest\n
DTSTART;TZID=Europe/Berlin:20250927T173000
DTEND;TZID=Europe/Berlin:20250927T173000
LOCATION:Festplatz
SUMMARY:Saisonabschlussfest
URL:https://kga-zingertal.de/index.php?option=com_jem&view=event&id=570:sai
 sonabschlussfest
END:VEVENT
END:VCALENDAR
