BEGIN:VCALENDAR
VERSION:2.0
PRODID:-//85.13.165.73//NONSGML kigkonsult.se iCalcreator 2.20//
CALSCALE:GREGORIAN
METHOD:PUBLISH
X-WR-TIMEZONE:Europe/Berlin
BEGIN:VEVENT
UID:event565@KGA Zingertal e.V.
DTSTAMP:20260421T090728Z
CATEGORIES:KGA
DESCRIPTION:Pfingstfrühshoppen mit Grillwagen\nKategorie: KGA\nICS-Link: ht
 tps://kga-zingertal.de/index.php?option=com_jem&view=event&id=565:pfingstf
 ruehshoppen-mit-grillwagen\n
DTSTART;TZID=Europe/Berlin:20250608T100000
DTEND;TZID=Europe/Berlin:20250608T100000
LOCATION:Festplatz
SUMMARY:Pfingstfrühshoppen mit Grillwagen
URL:https://kga-zingertal.de/index.php?option=com_jem&view=event&id=565:pfi
 ngstfruehshoppen-mit-grillwagen
END:VEVENT
END:VCALENDAR
