BEGIN:VCALENDAR
VERSION:2.0
PRODID:-//85.13.165.73//NONSGML kigkonsult.se iCalcreator 2.20//
CALSCALE:GREGORIAN
METHOD:PUBLISH
X-WR-TIMEZONE:Europe/Berlin
BEGIN:VEVENT
UID:event247@KGA Zingertal e.V.
DTSTAMP:20260421T105653Z
CATEGORIES:KGA
DESCRIPTION:Wasserablesung\nKategorie: KGA\nICS-Link: https://kga-zingertal
 .de/index.php?option=com_jem&view=event&id=247:wasserablesung\n
DTSTART;TZID=Europe/Berlin:20190504T090000
DTEND;TZID=Europe/Berlin:20190504T120000
LOCATION:Parzellen
SUMMARY:Wasserablesung
URL:https://kga-zingertal.de/index.php?option=com_jem&view=event&id=247:was
 serablesung
END:VEVENT
END:VCALENDAR
